BEGIN:VCALENDAR
VERSION:2.0
PRODID:-//Visit Lincoln County Nevada - ECPv6.15.20//NONSGML v1.0//EN
CALSCALE:GREGORIAN
METHOD:PUBLISH
X-WR-CALNAME:Visit Lincoln County Nevada
X-ORIGINAL-URL:https://lincolncountynevada.com
X-WR-CALDESC:Events for Visit Lincoln County Nevada
REFRESH-INTERVAL;VALUE=DURATION:PT1H
X-Robots-Tag:noindex
X-PUBLISHED-TTL:PT1H
BEGIN:VTIMEZONE
TZID:America/Los_Angeles
BEGIN:DAYLIGHT
TZOFFSETFROM:-0800
TZOFFSETTO:-0700
TZNAME:PDT
DTSTART:20250309T100000
END:DAYLIGHT
BEGIN:STANDARD
TZOFFSETFROM:-0700
TZOFFSETTO:-0800
TZNAME:PST
DTSTART:20251102T090000
END:STANDARD
BEGIN:DAYLIGHT
TZOFFSETFROM:-0800
TZOFFSETTO:-0700
TZNAME:PDT
DTSTART:20260308T100000
END:DAYLIGHT
BEGIN:STANDARD
TZOFFSETFROM:-0700
TZOFFSETTO:-0800
TZNAME:PST
DTSTART:20261101T090000
END:STANDARD
BEGIN:DAYLIGHT
TZOFFSETFROM:-0800
TZOFFSETTO:-0700
TZNAME:PDT
DTSTART:20270314T100000
END:DAYLIGHT
BEGIN:STANDARD
TZOFFSETFROM:-0700
TZOFFSETTO:-0800
TZNAME:PST
DTSTART:20271107T090000
END:STANDARD
END:VTIMEZONE
BEGIN:VEVENT
DTSTART;VALUE=DATE:20260801
DTEND;VALUE=DATE:20260803
DTSTAMP:20260425T040725
CREATED:20260128T054024Z
LAST-MODIFIED:20260128T054024Z
UID:10002439-1785542400-1785715199@lincolncountynevada.com
SUMMARY:ET Full Moon Marathon
DESCRIPTION:For more information\, please visit: https://www.calicoracing.com/events/et-full-moon/
URL:https://lincolncountynevada.com/upcoming-events-calendar/et-full-moon-marathon/
LOCATION:Rachel\, Rachel\, NV\, United States
END:VEVENT
END:VCALENDAR