BEGIN:VCALENDAR
VERSION:2.0
PRODID:-//Visit Lincoln County Nevada - ECPv6.15.20//NONSGML v1.0//EN
CALSCALE:GREGORIAN
METHOD:PUBLISH
X-ORIGINAL-URL:https://lincolncountynevada.com
X-WR-CALDESC:Events for Visit Lincoln County Nevada
REFRESH-INTERVAL;VALUE=DURATION:PT1H
X-Robots-Tag:noindex
X-PUBLISHED-TTL:PT1H
BEGIN:VTIMEZONE
TZID:America/Los_Angeles
BEGIN:DAYLIGHT
TZOFFSETFROM:-0800
TZOFFSETTO:-0700
TZNAME:PDT
DTSTART:20250309T100000
END:DAYLIGHT
BEGIN:STANDARD
TZOFFSETFROM:-0700
TZOFFSETTO:-0800
TZNAME:PST
DTSTART:20251102T090000
END:STANDARD
BEGIN:DAYLIGHT
TZOFFSETFROM:-0800
TZOFFSETTO:-0700
TZNAME:PDT
DTSTART:20260308T100000
END:DAYLIGHT
BEGIN:STANDARD
TZOFFSETFROM:-0700
TZOFFSETTO:-0800
TZNAME:PST
DTSTART:20261101T090000
END:STANDARD
BEGIN:DAYLIGHT
TZOFFSETFROM:-0800
TZOFFSETTO:-0700
TZNAME:PDT
DTSTART:20270314T100000
END:DAYLIGHT
BEGIN:STANDARD
TZOFFSETFROM:-0700
TZOFFSETTO:-0800
TZNAME:PST
DTSTART:20271107T090000
END:STANDARD
END:VTIMEZONE
BEGIN:VEVENT
DTSTART;TZID=America/Los_Angeles:20260502T073000
DTEND;TZID=America/Los_Angeles:20260502T090000
DTSTAMP:20260424T045820
CREATED:20260422T233809Z
LAST-MODIFIED:20260422T233809Z
UID:10002472-1777707000-1777712400@lincolncountynevada.com
SUMMARY:Hike Pioche
DESCRIPTION:We’re hitting one of our favorite trails—about 3 miles round trip with some challenging sections\, but totally worth it for the views. Come ready to climb\, sweat a little (or a lot)\, and take in some seriously beautiful scenery.
URL:https://lincolncountynevada.com/upcoming-events-calendar/hike-pioche/
LOCATION:Gym on Main\, 686 Main St\, Pioche\, NV\, 89043\, United States
ORGANIZER;CN="Pioche Chamber of Commerce":MAILTO:chamber@piochenevada.com
END:VEVENT
END:VCALENDAR